BEGIN:VCALENDAR
VERSION:2.0
PRODID:-//Betty Buckley - ECPv6.15.20//NONSGML v1.0//EN
CALSCALE:GREGORIAN
METHOD:PUBLISH
X-ORIGINAL-URL:https://www.bettybuckley.com
X-WR-CALDESC:Events for Betty Buckley
REFRESH-INTERVAL;VALUE=DURATION:PT1H
X-Robots-Tag:noindex
X-PUBLISHED-TTL:PT1H
BEGIN:VTIMEZONE
TZID:America/Los_Angeles
BEGIN:DAYLIGHT
TZOFFSETFROM:-0800
TZOFFSETTO:-0700
TZNAME:PDT
DTSTART:20240310T100000
END:DAYLIGHT
BEGIN:STANDARD
TZOFFSETFROM:-0700
TZOFFSETTO:-0800
TZNAME:PST
DTSTART:20241103T090000
END:STANDARD
BEGIN:DAYLIGHT
TZOFFSETFROM:-0800
TZOFFSETTO:-0700
TZNAME:PDT
DTSTART:20250309T100000
END:DAYLIGHT
BEGIN:STANDARD
TZOFFSETFROM:-0700
TZOFFSETTO:-0800
TZNAME:PST
DTSTART:20251102T090000
END:STANDARD
BEGIN:DAYLIGHT
TZOFFSETFROM:-0800
TZOFFSETTO:-0700
TZNAME:PDT
DTSTART:20260308T100000
END:DAYLIGHT
BEGIN:STANDARD
TZOFFSETFROM:-0700
TZOFFSETTO:-0800
TZNAME:PST
DTSTART:20261101T090000
END:STANDARD
END:VTIMEZONE
BEGIN:VEVENT
DTSTART;TZID=America/Los_Angeles:20250515T190000
DTEND;TZID=America/Los_Angeles:20250517T230000
DTSTAMP:20260423T045806
CREATED:20250411T235627Z
LAST-MODIFIED:20250411T235627Z
UID:1949-1747335600-1747522800@www.bettybuckley.com
SUMMARY:Betty Buckley Returns to Joe’s Pub for Six Unmissable Shows This May
DESCRIPTION:Tony® Award-winning Broadway legend Betty Buckley is making her triumphant return to Joe’s Pub at The Public in New York City for six unforgettable performances\, running May 15–17\, 2025. Known as the “Voice of Broadway\,” Buckley will deliver an intimate evening of storytelling and song alongside her stellar band\, including Grammy®-nominated pianist and longtime collaborator Christian Jacob. \nWith shows at 7:00 p.m. and 9:30 p.m. each night\, audiences can expect a masterclass in musical performance and interpretation. Past performances have earned rave reviews\, with BroadwayWorld praising her “musical brilliance” and Playbill calling it “a master class in the art of storytelling through song.” \nBuckley’s career spans theater\, film\, and television. She’s celebrated for iconic roles in Cats\, Sunset Boulevard\, and Hello\, Dolly!\, and for appearances in major films like Split\, Carrie\, and Tender Mercies. She recently appeared in Sundance 2025’s By Design and the upcoming A24 film Eternity. \nTickets are available now. Don’t miss the chance to experience one of Broadway’s most iconic voices live and up close. \n👉 More info and tickets
URL:https://www.bettybuckley.com/event/betty-buckley-returns-to-joes-pub-for-six-unmissable-shows-this-may/
LOCATION:Joe’s Pub\, 425 Lafayette St\, New York\, NY\, 10003\, United States
CATEGORIES:Concert
END:VEVENT
END:VCALENDAR