BEGIN:VCALENDAR
VERSION:2.0
PRODID:-//Betty Buckley - ECPv6.15.20//NONSGML v1.0//EN
CALSCALE:GREGORIAN
METHOD:PUBLISH
X-WR-CALNAME:Betty Buckley
X-ORIGINAL-URL:https://www.bettybuckley.com
X-WR-CALDESC:Events for Betty Buckley
REFRESH-INTERVAL;VALUE=DURATION:PT1H
X-Robots-Tag:noindex
X-PUBLISHED-TTL:PT1H
BEGIN:VTIMEZONE
TZID:America/Los_Angeles
BEGIN:DAYLIGHT
TZOFFSETFROM:-0800
TZOFFSETTO:-0700
TZNAME:PDT
DTSTART:20190310T100000
END:DAYLIGHT
BEGIN:STANDARD
TZOFFSETFROM:-0700
TZOFFSETTO:-0800
TZNAME:PST
DTSTART:20191103T090000
END:STANDARD
BEGIN:DAYLIGHT
TZOFFSETFROM:-0800
TZOFFSETTO:-0700
TZNAME:PDT
DTSTART:20200308T100000
END:DAYLIGHT
BEGIN:STANDARD
TZOFFSETFROM:-0700
TZOFFSETTO:-0800
TZNAME:PST
DTSTART:20201101T090000
END:STANDARD
BEGIN:DAYLIGHT
TZOFFSETFROM:-0800
TZOFFSETTO:-0700
TZNAME:PDT
DTSTART:20210314T100000
END:DAYLIGHT
BEGIN:STANDARD
TZOFFSETFROM:-0700
TZOFFSETTO:-0800
TZNAME:PST
DTSTART:20211107T090000
END:STANDARD
BEGIN:DAYLIGHT
TZOFFSETFROM:-0800
TZOFFSETTO:-0700
TZNAME:PDT
DTSTART:20220313T100000
END:DAYLIGHT
BEGIN:STANDARD
TZOFFSETFROM:-0700
TZOFFSETTO:-0800
TZNAME:PST
DTSTART:20221106T090000
END:STANDARD
END:VTIMEZONE
BEGIN:VTIMEZONE
TZID:America/New_York
BEGIN:DAYLIGHT
TZOFFSETFROM:-0500
TZOFFSETTO:-0400
TZNAME:EDT
DTSTART:20200308T070000
END:DAYLIGHT
BEGIN:STANDARD
TZOFFSETFROM:-0400
TZOFFSETTO:-0500
TZNAME:EST
DTSTART:20201101T060000
END:STANDARD
BEGIN:DAYLIGHT
TZOFFSETFROM:-0500
TZOFFSETTO:-0400
TZNAME:EDT
DTSTART:20210314T070000
END:DAYLIGHT
BEGIN:STANDARD
TZOFFSETFROM:-0400
TZOFFSETTO:-0500
TZNAME:EST
DTSTART:20211107T060000
END:STANDARD
BEGIN:DAYLIGHT
TZOFFSETFROM:-0500
TZOFFSETTO:-0400
TZNAME:EDT
DTSTART:20220313T070000
END:DAYLIGHT
BEGIN:STANDARD
TZOFFSETFROM:-0400
TZOFFSETTO:-0500
TZNAME:EST
DTSTART:20221106T060000
END:STANDARD
END:VTIMEZONE
BEGIN:VEVENT
DTSTART;TZID=America/Los_Angeles:20210807T173000
DTEND;TZID=America/Los_Angeles:20210807T200000
DTSTAMP:20260423T025850
CREATED:20201204T224910Z
LAST-MODIFIED:20210511T024233Z
UID:1553-1628357400-1628366400@www.bettybuckley.com
SUMMARY:Betty Buckley Performs 2 shows at the The 501 Concert: 5:30pm and 8:00pm
DESCRIPTION:
URL:https://www.bettybuckley.com/event/betty-buckley-performs-at-the-the-501-concert/
LOCATION:The 501
CATEGORIES:Concert
END:VEVENT
BEGIN:VEVENT
DTSTART;TZID=America/Los_Angeles:20210801T193000
DTEND;TZID=America/Los_Angeles:20210801T233000
DTSTAMP:20260423T025850
CREATED:20210511T022001Z
LAST-MODIFIED:20210511T022001Z
UID:1586-1627846200-1627860600@www.bettybuckley.com
SUMMARY:Michael Feinstein and Betty Buckley
DESCRIPTION:
URL:https://www.bettybuckley.com/event/michael-feinstein-and-betty-buckley/
LOCATION:CA
END:VEVENT
BEGIN:VEVENT
DTSTART;TZID=America/New_York:20210422T183000
DTEND;TZID=America/New_York:20210422T230000
DTSTAMP:20260423T025850
CREATED:20210413T013845Z
LAST-MODIFIED:20210413T013845Z
UID:1581-1619116200-1619132400@www.bettybuckley.com
SUMMARY:Thursday Alumni Classes: Begin at 6:30pm EST  April 22\, 29\, May 6\, 13\, 20
DESCRIPTION:
URL:https://www.bettybuckley.com/event/thursday-alumni-classes-begin-at-630pm-est-april-22-29-may-6-13-20/
LOCATION:CA
CATEGORIES:Workshop
END:VEVENT
BEGIN:VEVENT
DTSTART;TZID=America/New_York:20210421T183000
DTEND;TZID=America/New_York:20210421T230000
DTSTAMP:20260423T025850
CREATED:20210413T013258Z
LAST-MODIFIED:20210413T013338Z
UID:1579-1619029800-1619046000@www.bettybuckley.com
SUMMARY:Wednesday New Student Classes: Begin at 6:30pm EST  April 21\, 28\, May 5\, 12\, 19
DESCRIPTION:
URL:https://www.bettybuckley.com/event/wednesday-new-student-classes-begin-at-630pm-est-april-21-28-may-5-12-19/
LOCATION:CA
CATEGORIES:Workshop
END:VEVENT
BEGIN:VEVENT
DTSTART;TZID=America/New_York:20210420T183000
DTEND;TZID=America/New_York:20210420T230000
DTSTAMP:20260423T025850
CREATED:20210413T013054Z
LAST-MODIFIED:20210413T013054Z
UID:1577-1618943400-1618959600@www.bettybuckley.com
SUMMARY:Tuesday Alumni Classes : Begin at 6:30pm EST April 20\, 27\, May 4\, 11\, 18
DESCRIPTION:
URL:https://www.bettybuckley.com/event/tuesday-alumni-classes-begin-at-630pm-est-april-20-27-may-4-11-18/
LOCATION:CA
CATEGORIES:Workshop
END:VEVENT
BEGIN:VEVENT
DTSTART;TZID=America/Los_Angeles:20210304T183000
DTEND;TZID=America/Los_Angeles:20210304T223000
DTSTAMP:20260423T025850
CREATED:20210217T230348Z
LAST-MODIFIED:20210217T230404Z
UID:1574-1614882600-1614897000@www.bettybuckley.com
SUMMARY:Thursday night Alumni Class - March 4 | March 11 | March 18 | March 25 | April 1
DESCRIPTION:Betty Buckley is now offering her Broadway Song and Monologue Master Class ONLINE\, giving actors and singers the opportunity to work with her from anywhere in the world. Betty’s emotional connection to songs and audiences is renowned\, and that very connection is at the heart of what she imparts to her students. Betty Buckley focuses on the art of storytelling through monologue choices and top Broadway theatre songs to reignite your audition materials. Class includes meditation and mindfulness techniques before moving on to individual work. \nSIGN UP HERE: https://tschreiber.org/acting-classes/betty-buckley-master-class/
URL:https://www.bettybuckley.com/event/thursday-night-alumni-class-march-4-march-11-march-18-march-25-april-1/
LOCATION:CA
CATEGORIES:Workshop
END:VEVENT
BEGIN:VEVENT
DTSTART;TZID=America/Los_Angeles:20210303T183000
DTEND;TZID=America/Los_Angeles:20210303T223000
DTSTAMP:20260423T025850
CREATED:20210217T230213Z
LAST-MODIFIED:20210217T230502Z
UID:1572-1614796200-1614810600@www.bettybuckley.com
SUMMARY:Wednesday night New Student Class March 3 | March 10 | March 17 | March 24 | March 31
DESCRIPTION:Betty Buckley is now offering her Broadway Song and Monologue Master Class ONLINE\, giving actors and singers the opportunity to work with her from anywhere in the world. Betty’s emotional connection to songs and audiences is renowned\, and that very connection is at the heart of what she imparts to her students. Betty Buckley focuses on the art of storytelling through monologue choices and top Broadway theatre songs to reignite your audition materials. Class includes meditation and mindfulness techniques before moving on to individual work. \nSIGN UP HERE: https://tschreiber.org/acting-classes/betty-buckley-master-class/
URL:https://www.bettybuckley.com/event/wednesday-night-new-student-class-march-3-march-10-march-17-march-24-march-31/
LOCATION:CA
CATEGORIES:Workshop
END:VEVENT
BEGIN:VEVENT
DTSTART;TZID=America/Los_Angeles:20210302T183000
DTEND;TZID=America/Los_Angeles:20210302T223000
DTSTAMP:20260423T025850
CREATED:20210217T225528Z
LAST-MODIFIED:20210217T231201Z
UID:1570-1614709800-1614724200@www.bettybuckley.com
SUMMARY:Tuesday night Alumni Class - March 2 | March 9 | March 16 | March 23 | March 30
DESCRIPTION:Betty Buckley is now offering her Broadway Song and Monologue Master Class ONLINE\, giving actors and singers the opportunity to work with her from anywhere in the world. Betty’s emotional connection to songs and audiences is renowned\, and that very connection is at the heart of what she imparts to her students. Betty Buckley focuses on the art of storytelling through monologue choices and top Broadway theatre songs to reignite your audition materials. Class includes meditation and mindfulness techniques before moving on to individual work. \nSIGN UP HERE: https://tschreiber.org/acting-classes/betty-buckley-master-class/
URL:https://www.bettybuckley.com/event/tuesday-night-alumni-class-march-2-march-9-march-16-march-23-march-30/
LOCATION:CA
CATEGORIES:Workshop
END:VEVENT
BEGIN:VEVENT
DTSTART;TZID=America/Los_Angeles:20210121T080000
DTEND;TZID=America/Los_Angeles:20210121T170000
DTSTAMP:20260423T025850
CREATED:20210107T230218Z
LAST-MODIFIED:20210107T230232Z
UID:1560-1611216000-1611248400@www.bettybuckley.com
SUMMARY:THURSDAY ALUMNI CLASS: Jan. 21\, Jan. 28\, Feb. 4\, Feb. 11\, Feb. 18
DESCRIPTION:
URL:https://www.bettybuckley.com/event/thursday-alumni-class-jan-21-jan-28-feb-4-feb-11-feb-18/
LOCATION:CA
CATEGORIES:Workshop
END:VEVENT
BEGIN:VEVENT
DTSTART;TZID=America/Los_Angeles:20210120T080000
DTEND;TZID=America/Los_Angeles:20210120T170000
DTSTAMP:20260423T025850
CREATED:20210107T224940Z
LAST-MODIFIED:20210107T224940Z
UID:1558-1611129600-1611162000@www.bettybuckley.com
SUMMARY:WEDNESDAY NEW STUDENT CLASS:  Jan. 20\, Jan. 27\, Feb. 3\, Feb. 10\, Feb. 17
DESCRIPTION:
URL:https://www.bettybuckley.com/event/wednesday-new-student-class-jan-20-jan-27-feb-3-feb-10-feb-17/
LOCATION:CA
CATEGORIES:Workshop
END:VEVENT
BEGIN:VEVENT
DTSTART;TZID=America/Los_Angeles:20210119T080000
DTEND;TZID=America/Los_Angeles:20210119T170000
DTSTAMP:20260423T025850
CREATED:20210107T224900Z
LAST-MODIFIED:20210107T224900Z
UID:1556-1611043200-1611075600@www.bettybuckley.com
SUMMARY:TUESDAY ALUMNI CLASS: Jan. 19\, Jan. 26\, Feb. 2\,  Feb. 9\, Feb. 16
DESCRIPTION:
URL:https://www.bettybuckley.com/event/tuesday-alumni-class-jan-19-jan-26-feb-2-feb-9-feb-16/
LOCATION:CA
CATEGORIES:Workshop
END:VEVENT
BEGIN:VEVENT
DTSTART;TZID=America/Los_Angeles:20201105T080000
DTEND;TZID=America/Los_Angeles:20201210T170000
DTSTAMP:20260423T025850
CREATED:20201023T031659Z
LAST-MODIFIED:20201023T031735Z
UID:1547-1604563200-1607619600@www.bettybuckley.com
SUMMARY:ALUMNI MASTER CLASSES FOR SINGERS/ACTORS WHO HAVE WORKED WITH MS. BUCKLEY BEFORE #2
DESCRIPTION:THURSDAYS\, NOVEMBER 5 – DECEMBER 10\nAlum Class #2: Nov. 5\, 12\, 19\, Dec. 3 & 10\n5:30PM – 9:00PM\nMEETS ONCE A WEEK FOR 5 WEEKS
URL:https://www.bettybuckley.com/event/alumni-master-classes-for-singers-actors-who-have-worked-with-ms-buckley-before-2/
LOCATION:CA
CATEGORIES:Workshop
END:VEVENT
BEGIN:VEVENT
DTSTART;TZID=America/Los_Angeles:20201104T080000
DTEND;TZID=America/Los_Angeles:20201209T170000
DTSTAMP:20260423T025850
CREATED:20201017T024520Z
LAST-MODIFIED:20201023T031920Z
UID:1533-1604476800-1607533200@www.bettybuckley.com
SUMMARY:NEW STUDENT MASTER CLASS FOR SINGERS/ACTORS WHO HAVE NOT WORKED WITH MS. BUCKLEY BEFORE
DESCRIPTION:WEDNESDAYS\, NOVEMBER 4 – DECEMBER 9\nNew Student Class: Nov. 4\, 11\, 18\, Dec 2 & 9\n6:30PM – 10:00PM\nMEETS ONCE A WEEK FOR 5 WEEKS
URL:https://www.bettybuckley.com/event/new-student-master-class-for-singers-actors-who-have-not-worked-with-ms-buckley-before/
LOCATION:CA
CATEGORIES:Workshop
END:VEVENT
BEGIN:VEVENT
DTSTART;TZID=America/Los_Angeles:20201102T080000
DTEND;TZID=America/Los_Angeles:20201208T170000
DTSTAMP:20260423T025850
CREATED:20201017T025614Z
LAST-MODIFIED:20201023T031832Z
UID:1536-1604304000-1607446800@www.bettybuckley.com
SUMMARY:ALUMNI MASTER CLASSES FOR SINGERS/ACTORS WHO HAVE WORKED WITH MS. BUCKLEY BEFORE #1
DESCRIPTION:TUESDAYS\, NOVEMBER 2 – DECEMBER 8\nAlum Class #1: Nov 2\, 10\, 17\, Dec. 1 & 8\n5:30PM – 9:00PM\nMEETS ONCE A WEEK FOR 5 WEEKS
URL:https://www.bettybuckley.com/event/alumni-master-classes-for-singers-actors-who-have-worked-with-ms-buckley-before/
LOCATION:CA
CATEGORIES:Workshop
END:VEVENT
BEGIN:VEVENT
DTSTART;TZID=America/Los_Angeles:20200509T080000
DTEND;TZID=America/Los_Angeles:20200609T170000
DTSTAMP:20260423T025850
CREATED:20201017T023714Z
LAST-MODIFIED:20201017T023714Z
UID:1530-1589011200-1591722000@www.bettybuckley.com
SUMMARY:May 12 - June 9:  Alumni Student Class on Tuesdays
DESCRIPTION:
URL:https://www.bettybuckley.com/event/may-12-june-9-alumni-student-class-on-tuesdays/
LOCATION:CA
CATEGORIES:Workshop
END:VEVENT
END:VCALENDAR