BEGIN:VCALENDAR
VERSION:2.0
PRODID:-//Betty Buckley - ECPv6.15.20//NONSGML v1.0//EN
CALSCALE:GREGORIAN
METHOD:PUBLISH
X-ORIGINAL-URL:https://www.bettybuckley.com
X-WR-CALDESC:Events for Betty Buckley
REFRESH-INTERVAL;VALUE=DURATION:PT1H
X-Robots-Tag:noindex
X-PUBLISHED-TTL:PT1H
BEGIN:VTIMEZONE
TZID:America/Los_Angeles
BEGIN:DAYLIGHT
TZOFFSETFROM:-0800
TZOFFSETTO:-0700
TZNAME:PDT
DTSTART:20240310T100000
END:DAYLIGHT
BEGIN:STANDARD
TZOFFSETFROM:-0700
TZOFFSETTO:-0800
TZNAME:PST
DTSTART:20241103T090000
END:STANDARD
BEGIN:DAYLIGHT
TZOFFSETFROM:-0800
TZOFFSETTO:-0700
TZNAME:PDT
DTSTART:20250309T100000
END:DAYLIGHT
BEGIN:STANDARD
TZOFFSETFROM:-0700
TZOFFSETTO:-0800
TZNAME:PST
DTSTART:20251102T090000
END:STANDARD
BEGIN:DAYLIGHT
TZOFFSETFROM:-0800
TZOFFSETTO:-0700
TZNAME:PDT
DTSTART:20260308T100000
END:DAYLIGHT
BEGIN:STANDARD
TZOFFSETFROM:-0700
TZOFFSETTO:-0800
TZNAME:PST
DTSTART:20261101T090000
END:STANDARD
BEGIN:DAYLIGHT
TZOFFSETFROM:-0800
TZOFFSETTO:-0700
TZNAME:PDT
DTSTART:20270314T100000
END:DAYLIGHT
BEGIN:STANDARD
TZOFFSETFROM:-0700
TZOFFSETTO:-0800
TZNAME:PST
DTSTART:20271107T090000
END:STANDARD
BEGIN:DAYLIGHT
TZOFFSETFROM:-0800
TZOFFSETTO:-0700
TZNAME:PDT
DTSTART:20280312T100000
END:DAYLIGHT
BEGIN:STANDARD
TZOFFSETFROM:-0700
TZOFFSETTO:-0800
TZNAME:PST
DTSTART:20281105T090000
END:STANDARD
END:VTIMEZONE
BEGIN:VEVENT
DTSTART;TZID=America/Los_Angeles:20250919T193000
DTEND;TZID=America/Los_Angeles:20250919T230000
DTSTAMP:20260423T044135
CREATED:20250621T035157Z
LAST-MODIFIED:20250621T035157Z
UID:2017-1758310200-1758322800@www.bettybuckley.com
SUMMARY:Season 41: Betty Buckley @ The Strand Theatre
DESCRIPTION:Betty Buckley is a legendary\, multi-award winning actress/singer whose career spans theater\, film\, television and concert halls around the world.  She is a 2012 Theatre Hall of Fame inductee and the 2017 recipient of the Julie Harris Awards from The Actor’s Fund for Artistic Achievement and received The Lifetime Achievement Award from The American Songbook Association in 2023.She won a Tony Award for her performance as Grizabella\, the Glamour Cat\, in Andrew Lloyd Webber’s Cats and received her second Tony Award nomination for Best Actress in a musical for her performance as Hesione in Triumph of Love.  She received an Olivier Award nomination for her critically acclaimed interpretation of Norma Desmond in the London production of Andrew Lloyd Webber’s Sunset Boulevard\, which she repeated to more rave reviews on Broadway. Ms. Buckley is featured in the film\, By Design\, written and directed by Amanda Kramer which made it’s debut at The Sundance Film Festival in January 2025.  She is also featured in the film Eternity for A24 Studios starring Miles Teller and Elizabeth Olsen to be released in the Fall of 2025.  In March 2024\, she co-starred in Imaginary for Blumhouse Productions and released by Lionsgate.  She co-starred with James McAvoy in the M. Night Shyamalan hit film Split\, one of the top International box office hits of 2017.  She received a Saturn Award Nomination for Best Featured Actress for her work in the film. Her other films include her debut in Brian de Palma’s screen version of Stephen King’s Carrie\, Bruce Beresford’s Tender Mercies\, Roman Polanski’s Frantic\, Woody Allen’s Another Woman\, Lawrence Kasden’s Wyatt Earp and M. Night Shyamalan’s The Happening. In 2024\, The Mayfly\, an animated short film written\, produced and narrated by Ms. Buckley played the film festival circuit and won several awards including Best of Festival\, Best Director and Best 2D Character Based Animation at The Los Angeles Animation Festival.  The film also won Best Animation at The Lady Filmmakers Festival in Los Angeles. A love letter to New York City and music\, The Mayfly is a lyrical tale that was inspired by a true event at the Café Carlyle. \n$95.19\, $74.27\, $55.44\,  Student $37.66  (includes fees & local sales tax) \nSponsors and Friends of the Strand: Presale available by calling the Box Office at 318-226-8555.\n  \nPublic on sale date: Monday\, July 21st at 11:00 AM
URL:https://www.bettybuckley.com/event/season-41-betty-buckley-the-strand-theatre/
LOCATION:The Strand Theatre\, 619 Louisiana Ave\, Shreveport\, LA\, 71101\, United States
CATEGORIES:Concert
ATTACH;FMTTYPE=image/jpeg:https://www.bettybuckley.com/wp-content/uploads/2025/06/Betty-Buckley-scaled-1.jpg
END:VEVENT
BEGIN:VEVENT
DTSTART;VALUE=DATE:20260412
DTEND;VALUE=DATE:20260417
DTSTAMP:20260423T044135
CREATED:20260201T233730Z
LAST-MODIFIED:20260201T233742Z
UID:2080-1775952000-1776383999@www.bettybuckley.com
SUMMARY:April 12 - April 16: Master Class Workshop at Mercyhurst University
DESCRIPTION:
URL:https://www.bettybuckley.com/event/april-12-april-16-master-class-workshop-at-mercyhurst-university/
LOCATION:Mercyhurst University\, Erie\, PA\, 16546
CATEGORIES:Workshop
END:VEVENT
BEGIN:VEVENT
DTSTART;TZID=America/Los_Angeles:20260417T193000
DTEND;TZID=America/Los_Angeles:20260417T230000
DTSTAMP:20260423T044135
CREATED:20260128T083804Z
LAST-MODIFIED:20260201T233836Z
UID:2034-1776454200-1776466800@www.bettybuckley.com
SUMMARY:Betty Buckley Performs at Mercyhurst University -  Fri\, April 17 @ 7:30pm
DESCRIPTION:Mercyhurst University\nErie\, PA\nIn concert with Pianist Christian Jacob\nApril 17\n7:30pm\nhttps://miac.universitytickets.com/w/event.aspx?id=1627
URL:https://www.bettybuckley.com/event/betty-buckley-performs-at-mercyhurst-university/
LOCATION:Mercyhurst University\, Erie\, PA\, 16546
CATEGORIES:Concert
ATTACH;FMTTYPE=image/jpeg:https://www.bettybuckley.com/wp-content/uploads/2026/01/mercyhurst-university-featued-image-copy.jpg
END:VEVENT
BEGIN:VEVENT
DTSTART;TZID=America/Los_Angeles:20260424T190000
DTEND;TZID=America/Los_Angeles:20260424T213000
DTSTAMP:20260423T044135
CREATED:20260128T084656Z
LAST-MODIFIED:20260201T234057Z
UID:2037-1777057200-1777066200@www.bettybuckley.com
SUMMARY:Betty Buckley Performs at Joe's Pub NYC - Fri\, April 24 - Sun\, April 26
DESCRIPTION:Joe’s Pub\nNYC\nIn concert with Christian Jacob\, Tony Marino\, Keita Ogawa\, Jordan Peters\nApril 24 – 26\nFriday & Saturday: 7pm & 9:30pm\nSunday: 6pm & 8:30pm\nhttps://publictheater.org/performances-jp/2026/b/betty-buckley/
URL:https://www.bettybuckley.com/event/betty-buckley-performs-at-joes-pub-nyc/
LOCATION:Joe’s Pub\, 425 Lafayette St\, New York\, NY\, 10003\, United States
CATEGORIES:Concert
ATTACH;FMTTYPE=image/jpeg:https://www.bettybuckley.com/wp-content/uploads/2026/01/joes-pub-featured-image.jpg
END:VEVENT
BEGIN:VEVENT
DTSTART;TZID=America/Los_Angeles:20270122T080000
DTEND;TZID=America/Los_Angeles:20270122T170000
DTSTAMP:20260423T044135
CREATED:20260415T005131Z
LAST-MODIFIED:20260415T005559Z
UID:2085-1800604800-1800637200@www.bettybuckley.com
SUMMARY:Betty Buckley Takes the Stage in Center Stage’s 2026–27 Season - January 22 & 23\, 2027
DESCRIPTION:A Legendary Performer Returns to the Spotlight\nJanuary 22 & 23\, 2027\nBaltimore Center Stage\nFew performers command the stage quite like Betty Buckley. Known for her powerful voice\, emotional depth\, and decades-long career across Broadway\, film\, and television\, Buckley continues to captivate audiences wherever she performs. \nAs part of the highly anticipated 2026–27 season at Baltimore Center Stage\, theatergoers will have the opportunity to experience her talent live—an event that is already generating excitement among fans of live performance and musical theater.
URL:https://www.bettybuckley.com/event/betty-buckley-takes-the-stage-in-center-stages-2026-27-season-january-22-23-2027/
CATEGORIES:Concert
ATTACH;FMTTYPE=image/png:https://www.bettybuckley.com/wp-content/uploads/2026/04/2026-27-Email-Web_01-1.png
END:VEVENT
END:VCALENDAR