BEGIN:VCALENDAR
VERSION:2.0
PRODID:-//Betty Buckley - ECPv6.15.20//NONSGML v1.0//EN
CALSCALE:GREGORIAN
METHOD:PUBLISH
X-WR-CALNAME:Betty Buckley
X-ORIGINAL-URL:https://www.bettybuckley.com
X-WR-CALDESC:Events for Betty Buckley
REFRESH-INTERVAL;VALUE=DURATION:PT1H
X-Robots-Tag:noindex
X-PUBLISHED-TTL:PT1H
BEGIN:VTIMEZONE
TZID:America/Los_Angeles
BEGIN:DAYLIGHT
TZOFFSETFROM:-0800
TZOFFSETTO:-0700
TZNAME:PDT
DTSTART:20260308T100000
END:DAYLIGHT
BEGIN:STANDARD
TZOFFSETFROM:-0700
TZOFFSETTO:-0800
TZNAME:PST
DTSTART:20261101T090000
END:STANDARD
BEGIN:DAYLIGHT
TZOFFSETFROM:-0800
TZOFFSETTO:-0700
TZNAME:PDT
DTSTART:20270314T100000
END:DAYLIGHT
BEGIN:STANDARD
TZOFFSETFROM:-0700
TZOFFSETTO:-0800
TZNAME:PST
DTSTART:20271107T090000
END:STANDARD
BEGIN:DAYLIGHT
TZOFFSETFROM:-0800
TZOFFSETTO:-0700
TZNAME:PDT
DTSTART:20280312T100000
END:DAYLIGHT
BEGIN:STANDARD
TZOFFSETFROM:-0700
TZOFFSETTO:-0800
TZNAME:PST
DTSTART:20281105T090000
END:STANDARD
END:VTIMEZONE
BEGIN:VEVENT
DTSTART;TZID=America/Los_Angeles:20270122T080000
DTEND;TZID=America/Los_Angeles:20270122T170000
DTSTAMP:20260422T154451
CREATED:20260415T005131Z
LAST-MODIFIED:20260415T005559Z
UID:2085-1800604800-1800637200@www.bettybuckley.com
SUMMARY:Betty Buckley Takes the Stage in Center Stage’s 2026–27 Season - January 22 & 23\, 2027
DESCRIPTION:A Legendary Performer Returns to the Spotlight\nJanuary 22 & 23\, 2027\nBaltimore Center Stage\nFew performers command the stage quite like Betty Buckley. Known for her powerful voice\, emotional depth\, and decades-long career across Broadway\, film\, and television\, Buckley continues to captivate audiences wherever she performs. \nAs part of the highly anticipated 2026–27 season at Baltimore Center Stage\, theatergoers will have the opportunity to experience her talent live—an event that is already generating excitement among fans of live performance and musical theater.
URL:https://www.bettybuckley.com/event/betty-buckley-takes-the-stage-in-center-stages-2026-27-season-january-22-23-2027/
CATEGORIES:Concert
ATTACH;FMTTYPE=image/png:https://www.bettybuckley.com/wp-content/uploads/2026/04/2026-27-Email-Web_01-1.png
END:VEVENT
END:VCALENDAR