BEGIN:VCALENDAR
VERSION:2.0
PRODID:-//Betty Buckley - ECPv6.15.20//NONSGML v1.0//EN
CALSCALE:GREGORIAN
METHOD:PUBLISH
X-WR-CALNAME:Betty Buckley
X-ORIGINAL-URL:https://www.bettybuckley.com
X-WR-CALDESC:Events for Betty Buckley
REFRESH-INTERVAL;VALUE=DURATION:PT1H
X-Robots-Tag:noindex
X-PUBLISHED-TTL:PT1H
BEGIN:VTIMEZONE
TZID:America/New_York
BEGIN:DAYLIGHT
TZOFFSETFROM:-0500
TZOFFSETTO:-0400
TZNAME:EDT
DTSTART:20240310T070000
END:DAYLIGHT
BEGIN:STANDARD
TZOFFSETFROM:-0400
TZOFFSETTO:-0500
TZNAME:EST
DTSTART:20241103T060000
END:STANDARD
BEGIN:DAYLIGHT
TZOFFSETFROM:-0500
TZOFFSETTO:-0400
TZNAME:EDT
DTSTART:20250309T070000
END:DAYLIGHT
BEGIN:STANDARD
TZOFFSETFROM:-0400
TZOFFSETTO:-0500
TZNAME:EST
DTSTART:20251102T060000
END:STANDARD
BEGIN:DAYLIGHT
TZOFFSETFROM:-0500
TZOFFSETTO:-0400
TZNAME:EDT
DTSTART:20260308T070000
END:DAYLIGHT
BEGIN:STANDARD
TZOFFSETFROM:-0400
TZOFFSETTO:-0500
TZNAME:EST
DTSTART:20261101T060000
END:STANDARD
END:VTIMEZONE
BEGIN:VEVENT
DTSTART;TZID=America/New_York:20250630T200000
DTEND;TZID=America/New_York:20250630T233000
DTSTAMP:20260423T031931
CREATED:20250429T045140Z
LAST-MODIFIED:20250601T174637Z
UID:1962-1751313600-1751326200@www.bettybuckley.com
SUMMARY:Monday\, June 30 - Bay Street Theater in Sag Harbor\, NY
DESCRIPTION:Monday 30 Jun 2025 8:00PM \nSelect Seats $99.99 – $159.99 \n 
URL:https://www.bettybuckley.com/event/monday-june-30-bay-street-theater-in-sag-harbor-ny/
LOCATION:Bay Street Theater\, 1 Long Wharf\, Sag Harbor\, NY\, 11963\, United States
CATEGORIES:Concert
ATTACH;FMTTYPE=image/jpeg:https://www.bettybuckley.com/wp-content/uploads/2025/04/event-2_Betty-Buckley-HELLO-DOLLY_Credit-Emilio-Madrid-Kuser_Broadwaycom-1024x739-1.jpg
END:VEVENT
END:VCALENDAR